BEGIN:VCALENDAR
VERSION:2.0
PRODID:-//Space Calendar - ECPv6.15.20//NONSGML v1.0//EN
CALSCALE:GREGORIAN
METHOD:PUBLISH
X-WR-CALNAME:Space Calendar
X-ORIGINAL-URL:https://spacecalendar.com
X-WR-CALDESC:Events for Space Calendar
REFRESH-INTERVAL;VALUE=DURATION:PT1H
X-Robots-Tag:noindex
X-PUBLISHED-TTL:PT1H
BEGIN:VTIMEZONE
TZID:America/New_York
BEGIN:DAYLIGHT
TZOFFSETFROM:-0500
TZOFFSETTO:-0400
TZNAME:EDT
DTSTART:20250309T070000
END:DAYLIGHT
BEGIN:STANDARD
TZOFFSETFROM:-0400
TZOFFSETTO:-0500
TZNAME:EST
DTSTART:20251102T060000
END:STANDARD
BEGIN:DAYLIGHT
TZOFFSETFROM:-0500
TZOFFSETTO:-0400
TZNAME:EDT
DTSTART:20260308T070000
END:DAYLIGHT
BEGIN:STANDARD
TZOFFSETFROM:-0400
TZOFFSETTO:-0500
TZNAME:EST
DTSTART:20261101T060000
END:STANDARD
BEGIN:DAYLIGHT
TZOFFSETFROM:-0500
TZOFFSETTO:-0400
TZNAME:EDT
DTSTART:20270314T070000
END:DAYLIGHT
BEGIN:STANDARD
TZOFFSETFROM:-0400
TZOFFSETTO:-0500
TZNAME:EST
DTSTART:20271107T060000
END:STANDARD
END:VTIMEZONE
BEGIN:VTIMEZONE
TZID:Asia/Seoul
BEGIN:STANDARD
TZOFFSETFROM:+0900
TZOFFSETTO:+0900
TZNAME:KST
DTSTART:20250101T000000
END:STANDARD
END:VTIMEZONE
BEGIN:VTIMEZONE
TZID:America/Los_Angeles
BEGIN:DAYLIGHT
TZOFFSETFROM:-0800
TZOFFSETTO:-0700
TZNAME:PDT
DTSTART:20250309T100000
END:DAYLIGHT
BEGIN:STANDARD
TZOFFSETFROM:-0700
TZOFFSETTO:-0800
TZNAME:PST
DTSTART:20251102T090000
END:STANDARD
BEGIN:DAYLIGHT
TZOFFSETFROM:-0800
TZOFFSETTO:-0700
TZNAME:PDT
DTSTART:20260308T100000
END:DAYLIGHT
BEGIN:STANDARD
TZOFFSETFROM:-0700
TZOFFSETTO:-0800
TZNAME:PST
DTSTART:20261101T090000
END:STANDARD
BEGIN:DAYLIGHT
TZOFFSETFROM:-0800
TZOFFSETTO:-0700
TZNAME:PDT
DTSTART:20270314T100000
END:DAYLIGHT
BEGIN:STANDARD
TZOFFSETFROM:-0700
TZOFFSETTO:-0800
TZNAME:PST
DTSTART:20271107T090000
END:STANDARD
END:VTIMEZONE
BEGIN:VEVENT
DTSTART;VALUE=DATE:20260414
DTEND;VALUE=DATE:20260501
DTSTAMP:20260425T013559
CREATED:20260409T214944Z
LAST-MODIFIED:20260411T005735Z
UID:10001158-1776124800-1777593599@spacecalendar.com
SUMMARY:Launch Vehicle Avionics Systems Design and Applications – Online Short Course
DESCRIPTION:George N. Andrew\, with 46+ years of experience relating to launch vehicle\, spacecraft / instrument avionics architecture\, design\, manufacturing\, integration / testing / program management\, convenes this course Tuesdays / Thursdays through April 30 at 13:00–15:30 EDT | 17:00-19:30 UTC | 09:00-11:30 HST (6 Classes\, 15 Total Hours). All sessions will be recorded and available for replay; course notes will be available for download. \nThis new practical course offers a rare deep dive into launch vehicle avionics systems engineering and design. See website for details.\nAll students will receive an AIAA Certificate of Completion at the end of the course. \nMr. Andrew has extensive mission/systems engineering\, and program/project management experience. He has consulted and worked with start-up spacecraft and launch vehicle companies\, managing the flight and ground hardware/software architecture\, design\, development\, manufacturing\, test\, and launch. Mr. Andrew has been the program/project manager for several spacecraft program contracts and the Avionics Department Manager for two start-up launch vehicles. He is currently supporting the NASA Explorers Program Office in the Program Systems Engineering office as the Mission Systems Engineer for the MUSE & UVEX Projects and as the Safety Engineer for 2 other Projects\, all located at the NASA Goddard Space Flight Center in Greenbelt\, MD. Mr. Andrew is the President of GNA Aerospace Consulting Group and is an Associate Fellow within the AIAA.
URL:https://spacecalendar.com/event/22486/
LOCATION:Online
CATEGORIES:Education Program
END:VEVENT
BEGIN:VEVENT
DTSTART;VALUE=DATE:20260425
DTEND;VALUE=DATE:20260426
DTSTAMP:20260425T013559
CREATED:20260414T022153Z
LAST-MODIFIED:20260421T032918Z
UID:10001214-1777075200-1777161599@spacecalendar.com
SUMMARY:Launch South Korean ADD Solid-Fuel SLV / Demo Flight
DESCRIPTION:Launch window open 14:00-18:00 Korea Time | 05:00-09:00 UTC | HST is 19:00-23:00 on Apr 24; to LEO for first orbital full-version launch after 2 sub-orbital tests of individual stages\, and 1 orbital test flight without the 2nd stage.
URL:https://spacecalendar.com/event/launch-south-korean-add-solid-fuel-slv-demo-flight/
LOCATION:Sea Launch
CATEGORIES:Launch
END:VEVENT
BEGIN:VEVENT
DTSTART;VALUE=DATE:20260425
DTEND;VALUE=DATE:20260426
DTSTAMP:20260425T013559
CREATED:20250417T052755Z
LAST-MODIFIED:20260417T195312Z
UID:10001236-1777075200-1777161599@spacecalendar.com
SUMMARY:Launch Falcon 9 / Starlink Group 17-16
DESCRIPTION:Launch window 07:00-11:00 PDT | 04:00-08:00 HST for 25 internet satellites to LEO. First stage B1088 planned to land on ASDS OCISLY after this 15th flight.
URL:https://spacecalendar.com/event/launch-falcon-9-starlink-group-17-16/
LOCATION:SLC-4E (~35°N)\, Vandenberg SFB CA\, USA
CATEGORIES:Launch
END:VEVENT
BEGIN:VEVENT
DTSTART;VALUE=DATE:20260425
DTEND;VALUE=DATE:20260426
DTSTAMP:20260425T013559
CREATED:20260320T003517Z
LAST-MODIFIED:20260320T003718Z
UID:10001129-1777075200-1777161599@spacecalendar.com
SUMMARY:NET Late April - Vulcan Rocket Static Fire Testing
DESCRIPTION:First test after ULA Vulcan rocket launching from Florida on February 12\, 2026\, took a spacecraft to GSO but suffered an anomaly in one of the four solid rocket motors. \nNASA announcement week of March 11\, 2026\, said United Launch Alliance (ULA) Centaur V upper stage will be used for Artemis IV and V. \nULA is a joint venture of Lockheed Martin and Boeing.
URL:https://spacecalendar.com/event/net-late-april-vulcan-rocket-static-fire-testing/
LOCATION:SLC-41 (~28°N)\, Cape Canaveral SFS FL\, USA
CATEGORIES:Launch
END:VEVENT
BEGIN:VEVENT
DTSTART;VALUE=DATE:20260425
DTEND;VALUE=DATE:20260426
DTSTAMP:20260425T013559
CREATED:20260413T211328Z
LAST-MODIFIED:20260413T211844Z
UID:10001202-1777075200-1777161599@spacecalendar.com
SUMMARY:21st Annual AIAA Southern California Aerospace Systems & Technology (ASAT) Conference
DESCRIPTION:To bring together seasoned and new engineers\, researchers\, leaders\, managers\, academia and students\, to exchange ideas\, review achievements and plan new directions. At University of California\, Irvine (UCI)\, Interdisciplinary Science and Engineering Building\, 08:00-18:15 PDT. Co-sponsored by AIAA Orange County and San Gabriel Valley Sections.
URL:https://spacecalendar.com/event/21st-annual-aiaa-southern-california-aerospace-systems-technology-asat-conference/
LOCATION:Irvine CA\, USA
CATEGORIES:Meeting / Conference / Symposium
END:VEVENT
BEGIN:VEVENT
DTSTART;VALUE=DATE:20260425
DTEND;VALUE=DATE:20260426
DTSTAMP:20260425T013559
CREATED:20260415T031454Z
LAST-MODIFIED:20260415T031611Z
UID:10001218-1777075200-1777161599@spacecalendar.com
SUMMARY:The Drive to Fly: Finalists Award Ceremony
DESCRIPTION:Art competition to encourage future STEM (science\, technology\, engineering\, mathematics) leaders\, judged by Astronaut Nicole Stott and others\, has been on display and judged\, and awardees will be celebrated. RSVP to support Astronaut Scholarship Foundation. At Starry Night Gallery\, 230 S Beach St\, 18:30-20:00 EDT.
URL:https://spacecalendar.com/event/the-drive-to-fly-finalists-award-ceremony/
LOCATION:Daytona Beach FL\, USA
CATEGORIES:Meeting / Conference / Symposium
END:VEVENT
END:VCALENDAR