BEGIN:VCALENDAR
VERSION:2.0
PRODID:-//Space Calendar - ECPv6.15.20//NONSGML v1.0//EN
CALSCALE:GREGORIAN
METHOD:PUBLISH
X-WR-CALNAME:Space Calendar
X-ORIGINAL-URL:https://spacecalendar.com
X-WR-CALDESC:Events for Space Calendar
REFRESH-INTERVAL;VALUE=DURATION:PT1H
X-Robots-Tag:noindex
X-PUBLISHED-TTL:PT1H
BEGIN:VTIMEZONE
TZID:Europe/Vienna
BEGIN:DAYLIGHT
TZOFFSETFROM:+0100
TZOFFSETTO:+0200
TZNAME:CEST
DTSTART:20250330T010000
END:DAYLIGHT
BEGIN:STANDARD
TZOFFSETFROM:+0200
TZOFFSETTO:+0100
TZNAME:CET
DTSTART:20251026T010000
END:STANDARD
BEGIN:DAYLIGHT
TZOFFSETFROM:+0100
TZOFFSETTO:+0200
TZNAME:CEST
DTSTART:20260329T010000
END:DAYLIGHT
BEGIN:STANDARD
TZOFFSETFROM:+0200
TZOFFSETTO:+0100
TZNAME:CET
DTSTART:20261025T010000
END:STANDARD
BEGIN:DAYLIGHT
TZOFFSETFROM:+0100
TZOFFSETTO:+0200
TZNAME:CEST
DTSTART:20270328T010000
END:DAYLIGHT
BEGIN:STANDARD
TZOFFSETFROM:+0200
TZOFFSETTO:+0100
TZNAME:CET
DTSTART:20271031T010000
END:STANDARD
END:VTIMEZONE
BEGIN:VTIMEZONE
TZID:America/New_York
BEGIN:DAYLIGHT
TZOFFSETFROM:-0500
TZOFFSETTO:-0400
TZNAME:EDT
DTSTART:20250309T070000
END:DAYLIGHT
BEGIN:STANDARD
TZOFFSETFROM:-0400
TZOFFSETTO:-0500
TZNAME:EST
DTSTART:20251102T060000
END:STANDARD
BEGIN:DAYLIGHT
TZOFFSETFROM:-0500
TZOFFSETTO:-0400
TZNAME:EDT
DTSTART:20260308T070000
END:DAYLIGHT
BEGIN:STANDARD
TZOFFSETFROM:-0400
TZOFFSETTO:-0500
TZNAME:EST
DTSTART:20261101T060000
END:STANDARD
BEGIN:DAYLIGHT
TZOFFSETFROM:-0500
TZOFFSETTO:-0400
TZNAME:EDT
DTSTART:20270314T070000
END:DAYLIGHT
BEGIN:STANDARD
TZOFFSETFROM:-0400
TZOFFSETTO:-0500
TZNAME:EST
DTSTART:20271107T060000
END:STANDARD
END:VTIMEZONE
BEGIN:VTIMEZONE
TZID:Europe/Rome
BEGIN:DAYLIGHT
TZOFFSETFROM:+0100
TZOFFSETTO:+0200
TZNAME:CEST
DTSTART:20250330T010000
END:DAYLIGHT
BEGIN:STANDARD
TZOFFSETFROM:+0200
TZOFFSETTO:+0100
TZNAME:CET
DTSTART:20251026T010000
END:STANDARD
BEGIN:DAYLIGHT
TZOFFSETFROM:+0100
TZOFFSETTO:+0200
TZNAME:CEST
DTSTART:20260329T010000
END:DAYLIGHT
BEGIN:STANDARD
TZOFFSETFROM:+0200
TZOFFSETTO:+0100
TZNAME:CET
DTSTART:20261025T010000
END:STANDARD
BEGIN:DAYLIGHT
TZOFFSETFROM:+0100
TZOFFSETTO:+0200
TZNAME:CEST
DTSTART:20270328T010000
END:DAYLIGHT
BEGIN:STANDARD
TZOFFSETFROM:+0200
TZOFFSETTO:+0100
TZNAME:CET
DTSTART:20271031T010000
END:STANDARD
END:VTIMEZONE
BEGIN:VTIMEZONE
TZID:Europe/London
BEGIN:DAYLIGHT
TZOFFSETFROM:+0000
TZOFFSETTO:+0100
TZNAME:BST
DTSTART:20250330T010000
END:DAYLIGHT
BEGIN:STANDARD
TZOFFSETFROM:+0100
TZOFFSETTO:+0000
TZNAME:GMT
DTSTART:20251026T010000
END:STANDARD
BEGIN:DAYLIGHT
TZOFFSETFROM:+0000
TZOFFSETTO:+0100
TZNAME:BST
DTSTART:20260329T010000
END:DAYLIGHT
BEGIN:STANDARD
TZOFFSETFROM:+0100
TZOFFSETTO:+0000
TZNAME:GMT
DTSTART:20261025T010000
END:STANDARD
BEGIN:DAYLIGHT
TZOFFSETFROM:+0000
TZOFFSETTO:+0100
TZNAME:BST
DTSTART:20270328T010000
END:DAYLIGHT
BEGIN:STANDARD
TZOFFSETFROM:+0100
TZOFFSETTO:+0000
TZNAME:GMT
DTSTART:20271031T010000
END:STANDARD
END:VTIMEZONE
BEGIN:VTIMEZONE
TZID:Asia/Shanghai
BEGIN:STANDARD
TZOFFSETFROM:+0800
TZOFFSETTO:+0800
TZNAME:CST
DTSTART:20250101T000000
END:STANDARD
END:VTIMEZONE
BEGIN:VTIMEZONE
TZID:Pacific/Honolulu
BEGIN:STANDARD
TZOFFSETFROM:-1000
TZOFFSETTO:-1000
TZNAME:HST
DTSTART:20250101T000000
END:STANDARD
END:VTIMEZONE
BEGIN:VTIMEZONE
TZID:Asia/Tokyo
BEGIN:STANDARD
TZOFFSETFROM:+0900
TZOFFSETTO:+0900
TZNAME:JST
DTSTART:20250101T000000
END:STANDARD
END:VTIMEZONE
BEGIN:VEVENT
DTSTART;VALUE=DATE:20260413
DTEND;VALUE=DATE:20260425
DTSTAMP:20260424T015349
CREATED:20260313T231447Z
LAST-MODIFIED:20260313T232327Z
UID:10001115-1776038400-1777075199@spacecalendar.com
SUMMARY:UN COPUOS Legal Subcommittee (LSC) Meeting
DESCRIPTION:65th session of the UN COPUOS Legal Subcommittee (LSC). Informal meetings and consultations are expected to take place on April 13-14 and April 23-24\, surrounding the main session dates. Key lunar issues to be addressed include resources and information-sharing. Sessions focus is on international space governance\, including space safety\, sustainability\, lunar activities\, and legal issues relating to space exploration. At Vienna International Centre (VIC)\, commonly known as the UN Headquarters\,  Wagramer Strasse 5\, 1220 Vienna\, specifically in the C-Building. \nThe Open Lunar foundation invites: \nIf you are attending these events or are interested in engaging on these topics\, please reach out to connect@openlunar.org. \n  \n 
URL:https://spacecalendar.com/event/un-copuos-legal-subcommittee-lsc-meeting/
LOCATION:Vienna\, Austria
CATEGORIES:Meeting / Conference / Symposium
END:VEVENT
BEGIN:VEVENT
DTSTART;VALUE=DATE:20260414
DTEND;VALUE=DATE:20260501
DTSTAMP:20260424T015349
CREATED:20260409T214944Z
LAST-MODIFIED:20260411T005735Z
UID:10001158-1776124800-1777593599@spacecalendar.com
SUMMARY:Launch Vehicle Avionics Systems Design and Applications – Online Short Course
DESCRIPTION:George N. Andrew\, with 46+ years of experience relating to launch vehicle\, spacecraft / instrument avionics architecture\, design\, manufacturing\, integration / testing / program management\, convenes this course Tuesdays / Thursdays through April 30 at 13:00–15:30 EDT | 17:00-19:30 UTC | 09:00-11:30 HST (6 Classes\, 15 Total Hours). All sessions will be recorded and available for replay; course notes will be available for download. \nThis new practical course offers a rare deep dive into launch vehicle avionics systems engineering and design. See website for details.\nAll students will receive an AIAA Certificate of Completion at the end of the course. \nMr. Andrew has extensive mission/systems engineering\, and program/project management experience. He has consulted and worked with start-up spacecraft and launch vehicle companies\, managing the flight and ground hardware/software architecture\, design\, development\, manufacturing\, test\, and launch. Mr. Andrew has been the program/project manager for several spacecraft program contracts and the Avionics Department Manager for two start-up launch vehicles. He is currently supporting the NASA Explorers Program Office in the Program Systems Engineering office as the Mission Systems Engineer for the MUSE & UVEX Projects and as the Safety Engineer for 2 other Projects\, all located at the NASA Goddard Space Flight Center in Greenbelt\, MD. Mr. Andrew is the President of GNA Aerospace Consulting Group and is an Associate Fellow within the AIAA.
URL:https://spacecalendar.com/event/22486/
LOCATION:Online
CATEGORIES:Education Program
END:VEVENT
BEGIN:VEVENT
DTSTART;VALUE=DATE:20260420
DTEND;VALUE=DATE:20260425
DTSTAMP:20260424T015349
CREATED:20260323T005223Z
LAST-MODIFIED:20260323T005906Z
UID:10001148-1776643200-1777075199@spacecalendar.com
SUMMARY:24th IAA Humans In Space Symposium
DESCRIPTION:A platform for a fruitful discussion of fundamental problems and practical issues\, exchange of research results and ideas in space biology and medicine\, including: \n– Analogue Environments\n– Isolation\n– Astrobiology\n– Artificial Intelligence\n– Cardiovascular and Pulmonary\n– Challenges of Future Spaceflights\n– Circadian Rhythm\n– Commercial Spaceflight / Space Tourism\n– Education and Outreach\n– Exercise and Countermeasures in the Interplanetary piloted Mission\n– Field Test/Countermeasure Evaluation\n– Human factors in the Interplanetary piloted Mission\n– Immunology\n– Muscle and Bones\n– Medical Support in the Autonomous Flight\n– Neuroscience\n– Radiation\n– Cognitive and Behavioral Effects of Deep Space Missions\n– Space Psychology\n– Space Biology and Space Biotechnology\n– Telemedicine in interplanetary missions\n– Life Support System and Habitats\n– Multidisciplinary Studies related with Humans in Space – SANS/VIIP\n– Food and nutrition in space\n– Mars exploration\n– Women in space\n– Vision impairment\n– Transcriptomics and genomics in space – personalized/precision medicine
URL:https://spacecalendar.com/event/24th-iaa-humans-in-space-symposium/
LOCATION:Montecatini\, Italy
CATEGORIES:Meeting / Conference / Symposium
END:VEVENT
BEGIN:VEVENT
DTSTART;VALUE=DATE:20260420
DTEND;VALUE=DATE:20260425
DTSTAMP:20260424T015349
CREATED:20260413T210603Z
LAST-MODIFIED:20260413T210603Z
UID:10001201-1776643200-1777075199@spacecalendar.com
SUMMARY:BeyondHubble: Revisiting the Hubble Sequence Across Cosmic Time
DESCRIPTION:A meeting revisiting the Hubble Sequence 100 years on: Linking the morphological evolution of galaxies across cosmic time. \nInvited Speakers: \n\n\nAngela Adamo (Stockholm University) \n\n\nOscar Agertz (Lund University) \n\n\nMichele Cappellari (University of Oxford) \n\n\nAndrei Kravtsov (University of Chicago) \n\n\nSharon Meidt (Ghent University) \n\n\nLamiya Mowla (Wellesley College) \n\n\nVadim Semenov (CfA) \n\n\nAdrianne Slyz (University of Oxford) \n\n\nTakafumi Tsukui (ANU) \n\n\nHannah Übler (MPE) \n\n\nLing Zhu (Shanghai Astronomical Observatory)
URL:https://spacecalendar.com/event/beyondhubble-revisiting-the-hubble-sequence-across-cosmic-time/
LOCATION:Cambridge\, United Kingdom
CATEGORIES:Meeting / Conference / Symposium
END:VEVENT
BEGIN:VEVENT
DTSTART;VALUE=DATE:20260423
DTEND;VALUE=DATE:20260425
DTSTAMP:20260424T015349
CREATED:20260414T011645Z
LAST-MODIFIED:20260414T015408Z
UID:10001211-1776902400-1777075199@spacecalendar.com
SUMMARY:Kennedy Space Center (KSC) Elite VIP Tour
DESCRIPTION:Exclusive all-day tour begins at 09:00 EDT with a knowledgeable space expert as guide. Includes: Admission and parking\, iconic attractions including Rocket Garden\, Deep Space Launch Complex\, Space Shuttle Atlantis\, Spaceport KSC ride\, Shuttle Launch Experience ride\, bus tour behind NASA’s gates including (depending on launch schedule) outside of Vehicle Assembly Building / views of Launch Complex 39’s Pads A and B / Astronaut crew quarters\, the all-new The Gantry at LC-39\, and the awe-inspiring Apollo/Saturn V Center\, only accessible via the bus tour. Includes lunch buffet\, snacks\, water and a bonus admission and parking on a future return visit valid for 6 months from your initial Elite VIP Tour experience. \nPrice (all ages\, but recommended for 13 and older): $175 +tax \nThe tour will last about 7 hours. All Elite VIP Tours must be purchased the day before your visit by 7:00 PM EST. Upon arrival\, follow the signs for the separate VIP entrance and security screening\, located between Will Call and the main security entrance. VIPs should check in at this entrance at 9:00 AM daily. This tour is only offered in English. Kennedy Space Center is a working spaceflight facility. Therefore\, bus tour routes and stops may be altered with no notice.
URL:https://spacecalendar.com/event/kennedy-space-center-ksc-elite-vip-tour/
LOCATION:Kennedy Space Center Visitor Complex FL\, USA
CATEGORIES:Meeting / Conference / Symposium
END:VEVENT
BEGIN:VEVENT
DTSTART;VALUE=DATE:20260424
DTEND;VALUE=DATE:20260425
DTSTAMP:20260424T015349
CREATED:20260421T030344Z
LAST-MODIFIED:20260421T032921Z
UID:10001242-1776988800-1777075199@spacecalendar.com
SUMMARY:Launch Cheng Zheng 2D / Unknown Payload
DESCRIPTION:Launch window 14:30-14:51 China Time | 06:30-06:51 UTC | HST is 20:30-20:51 on April 23. Chang Zhen 2D (CZ-2D) is expected to make its 103rd flight\, powered by hypergolic fuels (toxic)\, typically to geostationary transfer orbit. This will be the 3rd flight of 2026 for CZ-2D.
URL:https://spacecalendar.com/event/launch-cheng-zheng-2d-unknown-payload/
LOCATION:Xichang Satellite Launch Center\, ~28°N\, Sichuan\, China
CATEGORIES:Launch
END:VEVENT
BEGIN:VEVENT
DTSTART;VALUE=DATE:20260424
DTEND;VALUE=DATE:20260425
DTSTAMP:20260424T015349
CREATED:20250617T230639Z
LAST-MODIFIED:20260413T211852Z
UID:10000173-1776988800-1777075199@spacecalendar.com
SUMMARY:Hubble Space Telescope Begins Next Year in Space
DESCRIPTION:NASA spacecraft with 2.4-meter diameter main telescope begins 37th year in space today\, launched Apr 24\, 1990; could continue operations until 2040s.
URL:https://spacecalendar.com/event/hubble-space-telescope/
LOCATION:Low Earth Orbit (LEO)
CATEGORIES:Observation / Anniversary
END:VEVENT
BEGIN:VEVENT
DTSTART;VALUE=DATE:20260424
DTEND;VALUE=DATE:20260425
DTSTAMP:20260424T015349
CREATED:20250916T202936Z
LAST-MODIFIED:20251006T205733Z
UID:10000220-1776988800-1777075199@spacecalendar.com
SUMMARY:National Day of Space Flight
DESCRIPTION:Commemorating the launch of China’s first satellite\, Dongfanghong-1 on April 24\, 1970.
URL:https://spacecalendar.com/event/national-day-of-space-flight-2/
LOCATION:China (Zhongguo)
CATEGORIES:Observation / Anniversary
END:VEVENT
BEGIN:VEVENT
DTSTART;VALUE=DATE:20260424
DTEND;VALUE=DATE:20260425
DTSTAMP:20260424T015349
CREATED:20260303T003143Z
LAST-MODIFIED:20260303T015959Z
UID:10001059-1776988800-1777075199@spacecalendar.com
SUMMARY:Spacetide Academy Space Business Job-Ready Training Bootcamp
DESCRIPTION:In Toranomon Area of Tokyo\, 09:00-20:00 Japan Time. The lecture sessions cover a wide range of topics\, including industry structure and the global competitive landscape\, the history of the space industry\, Japan’s Space Strategy Fund and Basic Space Policy\, and the policies and legal frameworks that support space business—all explained in a clear and accessible manner.\nThis is an ideal program for anyone aiming to become job-ready in the space sector\, or for those who wish to build a solid foundation from the ground up.\nThere are no eligibility requirements\, and we warmly welcome anyone with an interest in the space industry to join us.
URL:https://spacecalendar.com/event/spacetide-academy-space-business-job-ready-training-bootcamp/
LOCATION:Tokyo\, Japan
CATEGORIES:Education Program
END:VEVENT
BEGIN:VEVENT
DTSTART;VALUE=DATE:20260424
DTEND;VALUE=DATE:20260425
DTSTAMP:20260424T015349
CREATED:20260331T010109Z
LAST-MODIFIED:20260331T010329Z
UID:10001167-1776988800-1777075199@spacecalendar.com
SUMMARY:From Earth to the Universe: At Robinson Planetarium
DESCRIPTION:In honor of Astronomy Month\, celebrated around the Earth\, this full-dome planetarium program takes the audience out to the colorful birthplaces and burial grounds of stars\, and still further out beyond the Milky Way to the unimaginable immensity of myriad galaxies. Along the way\, the audience will learn about the history of astronomy\, the invention of the telescope\, and today’s giant telescopes that allow us to probe ever deeper into the Universe. At Adrian College\, 110 South Madison Street\, 19:00 EDT. \nThe planetarium will also address light pollution\, a current issue affecting dark skies.
URL:https://spacecalendar.com/event/from-earth-to-the-universe-at-robinson-planetarium-2/
LOCATION:Adrian MI\, USA
CATEGORIES:Meeting / Conference / Symposium
END:VEVENT
BEGIN:VEVENT
DTSTART;VALUE=DATE:20260424
DTEND;VALUE=DATE:20260425
DTSTAMP:20260424T015349
CREATED:20260413T203858Z
LAST-MODIFIED:20260421T034534Z
UID:10001200-1776988800-1777075199@spacecalendar.com
SUMMARY:Doc Waller's Earth & Space Report with Richard Luecke
DESCRIPTION:Award-winning astronomical artist Dick Luecke will show Moon\, planets\, nebulae and galaxy sketching; via Zoom at 19:00 EDT | 23:00 UTC | 13:00 HST. Richard Luecke is with the Gloucester Area Astronomy Club (GAAC). \nMeeting ID 895 264 5644 \nPasscode 634305 \nhttps://us06web.zoom.us/j/8952645644?pwd=ZmozcWFlK0JJSXJ2MGdWeEMxQTVEUT09&omn=86806605028 \nhttps://app.zoom.us/wc/8952645644/join?omn=86806605028&ref_from=launch&pwd=ZmozcWFlK0JJSXJ2MGdWeEMxQTVEUT09&_x_zm_rtaid=lUlq0F1PSJynN5z7K7lXlw.1776742760095.605e9b0a3fc09289daa7f7adcd2bd7c9&_x_zm_rhtaid=354&fromPWA=1 \nOne tap mobile\n+16469313860\,\,8952645644#\,\,\,\,*634305# US\n+19294362866\,\,8952645644#\,\,\,\,*634305# US (New York)
URL:https://spacecalendar.com/event/doc-wallers-earth-space-report-with-ruby-patterson/
LOCATION:Online
CATEGORIES:Meeting / Conference / Symposium
END:VEVENT
END:VCALENDAR